BEGIN:VCALENDAR
VERSION:2.0
PRODID:-//Agenda do Vinho - ECPv4.9.0//NONSGML v1.0//EN
CALSCALE:GREGORIAN
METHOD:PUBLISH
X-WR-CALNAME:Agenda do Vinho
X-ORIGINAL-URL:https://agendadovinho.com.br
X-WR-CALDESC:Eventos para Agenda do Vinho
BEGIN:VEVENT
DTSTART;TZID=America/Sao_Paulo:20191123T160000
DTEND;TZID=America/Sao_Paulo:20191123T220000
DTSTAMP:20260426T030218
CREATED:20190905T192737Z
LAST-MODIFIED:20190905T192737Z
UID:7829-1574524800-1574546400@agendadovinho.com.br
SUMMARY:MONDOVINO WINE FEST VI
DESCRIPTION:O melhor festival de vinhos\, gastronomia e música está de volta!\n\nEm sua 6ª edição\, com uma grande novidade! O ‘’Open Food’’\, assinado pelo renomado Chef Onildo Rocha\, (@onildorocha) que\, com mais de 10 anos de carreira\, ocupa uma posição de destaque na alta gastronomia paraibana.\n\nCom suas particularidades e temperos\, os pratos serão elaborados com ingredientes da Paganini Gastronomia @paganinigastronomia\, Rei das Carnes@reidascarnespb\, Farina Padaria Artesanal (@farinapadariaartesanal)\, Allfood (@allfoodimportadora)\, além das frutas e hortaliças @frutasdocemel. Um menu único e inesquecível para todos os participantes.\n\nNo evento:\n\n– Inédito – Open Food com o Chef Onildo Rocha\n– Estrutura com conforto e decoração\n– Degustação livre de cerca de 20 rótulos\, das melhores regiões produtoras do mundo\, entre brancos\, rosês e tintos\n– Taça do evento personalizada\n– Água mineral e suco de uva\n
URL:https://agendadovinho.com.br/event/mondovino-wine-fest-vi/
LOCATION:Fortaleza de Santa Catarina\, R. Santa Catarina\, S/N \, Santa Catarina\, Cabedelo\, PB\, Brasil
CATEGORIES:Degustação,PB - Demais cidades
ATTACH;FMTTYPE=image/png:https://agendadovinho.com.br/wp-content/uploads/2019/09/mondovino_231119.png
END:VEVENT
END:VCALENDAR