BEGIN:VCALENDAR
VERSION:2.0
PRODID:-//Agenda do Vinho - ECPv4.9.0//NONSGML v1.0//EN
CALSCALE:GREGORIAN
METHOD:PUBLISH
X-WR-CALNAME:Agenda do Vinho
X-ORIGINAL-URL:https://agendadovinho.com.br
X-WR-CALDESC:Eventos para Agenda do Vinho
BEGIN:VEVENT
DTSTART;TZID=America/Sao_Paulo:20191018T193000
DTEND;TZID=America/Sao_Paulo:20191018T193000
DTSTAMP:20260419T152649
CREATED:20191005T171734Z
LAST-MODIFIED:20191005T171734Z
UID:8915-1571427000-1571427000@agendadovinho.com.br
SUMMARY:Mondo del Vino
DESCRIPTION:Vem! Vai ter vinho 🍷 18/10 Mondo Del Vino com @joao.lombardo na Casa Italia\, um bate papo e degustação de vinhos italianos\, vagas limitadas\, corre ☺️ Informações: 📞48 3223 2352 \n
URL:https://agendadovinho.com.br/event/mondo-del-vino/
LOCATION:Casa Italia\, Praça XV de Novembro\, 340 - Centro\, Florianópolis\, SC\, 88010-560\, Brasil
CATEGORIES:Curso técnico,SC - Florianópolis
ATTACH;FMTTYPE=image/jpeg:https://agendadovinho.com.br/wp-content/uploads/2019/10/mondo-del-vino_171019.jpg
END:VEVENT
END:VCALENDAR