BEGIN:VCALENDAR
VERSION:2.0
PRODID:-//Agenda do Vinho - ECPv4.9.0//NONSGML v1.0//EN
CALSCALE:GREGORIAN
METHOD:PUBLISH
X-WR-CALNAME:Agenda do Vinho
X-ORIGINAL-URL:https://agendadovinho.com.br
X-WR-CALDESC:Eventos para Agenda do Vinho
BEGIN:VEVENT
DTSTART;TZID=America/Sao_Paulo:20200422T203000
DTEND;TZID=America/Sao_Paulo:20200422T203000
DTSTAMP:20260426T040247
CREATED:20200422T184724Z
LAST-MODIFIED:20200422T184724Z
UID:12762-1587587400-1587587400@agendadovinho.com.br
SUMMARY:Mitos e verdades no mundo dos vinhos
DESCRIPTION:LIVE com @desenrolhando e @juniormedereiros77. \nSerá um bate papo sobre Mitos e Verdades no Mundo dos Vinhos. \n
URL:https://agendadovinho.com.br/event/mitos-e-verdades-no-mundo-dos-vinhos/
LOCATION:Instagram
CATEGORIES:Curso técnico,Online
ATTACH;FMTTYPE=image/jpeg:https://agendadovinho.com.br/wp-content/uploads/2020/04/eniwine_220420.jpg
END:VEVENT
END:VCALENDAR