BEGIN:VCALENDAR
VERSION:2.0
PRODID:-//Agenda do Vinho - ECPv4.9.0//NONSGML v1.0//EN
CALSCALE:GREGORIAN
METHOD:PUBLISH
X-WR-CALNAME:Agenda do Vinho
X-ORIGINAL-URL:https://agendadovinho.com.br
X-WR-CALDESC:Eventos para Agenda do Vinho
BEGIN:VEVENT
DTSTART;TZID=America/Sao_Paulo:20210520T193000
DTEND;TZID=America/Sao_Paulo:20210520T210000
DTSTAMP:20260422T230239
CREATED:20210510T150307Z
LAST-MODIFIED:20210510T150307Z
UID:17419-1621539000-1621544400@agendadovinho.com.br
SUMMARY:Mini HAPPY WYNE Class
DESCRIPTION:20/mai – 19:30 \n
URL:https://agendadovinho.com.br/event/mini-happy-wyne-class/
LOCATION:Vídeo conferência
CATEGORIES:Curso técnico,Online
ATTACH;FMTTYPE=image/png:https://agendadovinho.com.br/wp-content/uploads/2021/05/wine-class_200521.png
END:VEVENT
END:VCALENDAR