BEGIN:VCALENDAR
VERSION:2.0
PRODID:-//Agenda do Vinho - ECPv4.9.0//NONSGML v1.0//EN
CALSCALE:GREGORIAN
METHOD:PUBLISH
X-WR-CALNAME:Agenda do Vinho
X-ORIGINAL-URL:https://agendadovinho.com.br
X-WR-CALDESC:Eventos para Agenda do Vinho
BEGIN:VEVENT
DTSTART;TZID=America/Sao_Paulo:20200316T190000
DTEND;TZID=America/Sao_Paulo:20200316T220000
DTSTAMP:20260425T202152
CREATED:20200209T150122Z
LAST-MODIFIED:20200209T150122Z
UID:11223-1584385200-1584396000@agendadovinho.com.br
SUMMARY:Melhores vinhos sem pagar mais por isso
DESCRIPTION:Reunião inaugural para a formação da Confraria de Vinhos. Degustação orientada de rótulos selecionados de diferentes regiões e estilos\, acompanhados de pães especiais\, queijos\, castanhas e azeite. \nWorkshop temático: “Compre melhor os seus vinhos sem gastar mais” \nUm evento para conhecer um pouco mais do mundo dos vinhos e se divertir. \nReunião sediada na Pousada Minas Gerais\, Centro Histórico\, Ouro Preto/MG. \n
URL:https://agendadovinho.com.br/event/melhores-vinhos-sem-pagar-mais-por-isso/
LOCATION:Pousada Minas Gerais\, R. Xavier da Veiga\, 303 - Centro Historico\, Ouro Preto\, MG\, 35400-000\, Brasil
CATEGORIES:Curso técnico,MG - Demais cidades
ATTACH;FMTTYPE=image/png:https://agendadovinho.com.br/wp-content/uploads/2020/02/melhores-vinhos_160320.png
END:VEVENT
END:VCALENDAR