BEGIN:VCALENDAR
VERSION:2.0
PRODID:-//Agenda do Vinho - ECPv4.9.0//NONSGML v1.0//EN
CALSCALE:GREGORIAN
METHOD:PUBLISH
X-WR-CALNAME:Agenda do Vinho
X-ORIGINAL-URL:https://agendadovinho.com.br
X-WR-CALDESC:Eventos para Agenda do Vinho
BEGIN:VEVENT
DTSTART;TZID=America/Sao_Paulo:20190430T193000
DTEND;TZID=America/Sao_Paulo:20190430T210000
DTSTAMP:20260419T181354
CREATED:20190425T152152Z
LAST-MODIFIED:20190425T152152Z
UID:2578-1556652600-1556658000@agendadovinho.com.br
SUMMARY:Masterclass EnoDrinks - Misturas para descontrair seus vinhos
DESCRIPTION:Seja como tendência de mercado ou simplesmente para descontrair seus rótulos favoritos\, os drinks chegaram com força no mundo dos vinhos. Neste bate papo\, a ABS – RS e a Vineria1976 vão desbravar o tema de taça na mão e você vai descobrir na prática uma nova forma de apreciar a bebida. \nData: 30/04/2019\nHorário: 19h30min\nPrograma da atividade: Após apresentação de princípios de coquetelaria\, os participantes irão elaborar os drinks juntamente com o professor. Serão elaborados 5 drinks com vinhos e espumantes.\nMinistrante: Maurício Roloff\nValor: R$79 (R$59 para sócios ABS-RS)\nCertificado digital de participação emitido pela ABS/RS\nInscrições e outras informações: Vineria1976 – (51) 3557-4764\nVagas limitadas \n
URL:https://agendadovinho.com.br/event/masterclass-enodrinks-misturas-para-descontrair-seus-vinhos/
LOCATION:Vineria1976\, Praça Dr. Maurício Cardoso\, 49 - Moinhos de Vento\, Porto Alegre\, RS\, 90570-010\, Brasil
CATEGORIES:Curso técnico,RS - Porto Alegre
ATTACH;FMTTYPE=image/jpeg:https://agendadovinho.com.br/wp-content/uploads/2019/04/masterclass-enodrinks_300419.jpg
END:VEVENT
END:VCALENDAR