BEGIN:VCALENDAR
VERSION:2.0
PRODID:-//Agenda do Vinho - ECPv4.9.0//NONSGML v1.0//EN
CALSCALE:GREGORIAN
METHOD:PUBLISH
X-WR-CALNAME:Agenda do Vinho
X-ORIGINAL-URL:https://agendadovinho.com.br
X-WR-CALDESC:Eventos para Agenda do Vinho
BEGIN:VEVENT
DTSTART;TZID=America/Sao_Paulo:20200903T173000
DTEND;TZID=America/Sao_Paulo:20200903T173000
DTSTAMP:20260425T151428
CREATED:20200903T204204Z
LAST-MODIFIED:20200903T204204Z
UID:15826-1599154200-1599154200@agendadovinho.com.br
SUMMARY:Master of Wine
DESCRIPTION:03/set – 17:30 \n
URL:https://agendadovinho.com.br/event/master-of-wine/
LOCATION:Instagram
CATEGORIES:Curso técnico,Online
ATTACH;FMTTYPE=image/jpeg:https://agendadovinho.com.br/wp-content/uploads/2020/09/davinha_aovinho_030920_2.jpg
END:VEVENT
END:VCALENDAR