BEGIN:VCALENDAR
VERSION:2.0
PRODID:-//Agenda do Vinho - ECPv4.9.0//NONSGML v1.0//EN
CALSCALE:GREGORIAN
METHOD:PUBLISH
X-WR-CALNAME:Agenda do Vinho
X-ORIGINAL-URL:https://agendadovinho.com.br
X-WR-CALDESC:Eventos para Agenda do Vinho
BEGIN:VEVENT
DTSTART;TZID=America/Sao_Paulo:20190502T173000
DTEND;TZID=America/Sao_Paulo:20190502T193000
DTSTAMP:20260419T152603
CREATED:20190428T173145Z
LAST-MODIFIED:20190428T173145Z
UID:2795-1556818200-1556825400@agendadovinho.com.br
SUMMARY:Master Class Vinhos de Israel
DESCRIPTION:Apesar de Israel ter comemorado 70 anos de independência em 2018\, a sua tradição na produção de vinhos é milenar. São cerca de 5.000 anos de história de vinificação no país. Com pequena extensão territorial\, Israel apresenta uma incrível diversidade geoclimática. \nCom “terroir” mediterrâneo\, seus vinhos possuem características semelhantes a Portugal\, Espanha\, França\, Itália e Grécia\, já tradicionais produtores de vinhos e azeites. \nA partir de 2012\, a indústria vitivinícola israelense passou a produzir uma média de 36 milhões de garrafas por ano em uma variedade de estilos que vão desde tintos\, brancos\, rosé\, espumantes e de sobremesa. \nExistem 35 vinícolas comerciais em Israel e mais de 250 vinícolas boutique. Degustação de 9 vinhos \nLista de Vinícolas de Vinhos: \nTabor\, 562 Brut’\nDalton (Vinik)\, Estate Chardonnay 2016\nTulip\, White Tulip 2016\nHar Bracha\, Jozef 2016\nCarmel\, Appellation  2014\nPsagot\, Psagot EDOM 2015\nBen Haim\, Tradition Senna  2015\nBiyamina\, The Chosen Diamond  2013\nGolan Heights\, Yarden Cabernet Sauvignon 2015 \n
URL:https://agendadovinho.com.br/event/master-class-vinhos-de-israel/
LOCATION:Espaço Museu do Vinho de São Paulo\, Rua Minas Gerais\, 246\, São Paulo\, SP\, Brasil
CATEGORIES:Degustação limitada,SP - São Paulo
ATTACH;FMTTYPE=image/png:https://agendadovinho.com.br/wp-content/uploads/2019/04/vinhos-de-israel_020519.png
END:VEVENT
END:VCALENDAR