BEGIN:VCALENDAR
VERSION:2.0
PRODID:-//Agenda do Vinho - ECPv4.9.0//NONSGML v1.0//EN
CALSCALE:GREGORIAN
METHOD:PUBLISH
X-WR-CALNAME:Agenda do Vinho
X-ORIGINAL-URL:https://agendadovinho.com.br
X-WR-CALDESC:Eventos para Agenda do Vinho
BEGIN:VEVENT
DTSTART;TZID=America/Sao_Paulo:20201106T170000
DTEND;TZID=America/Sao_Paulo:20201106T170000
DTSTAMP:20260423T002948
CREATED:20201106T153847Z
LAST-MODIFIED:20201106T153847Z
UID:16541-1604682000-1604682000@agendadovinho.com.br
SUMMARY:Marcelo Copello entrevista Ari Gorenstein
DESCRIPTION:06/nov – 17:00 \n
URL:https://agendadovinho.com.br/event/marcelo-copello-entrevista-ari-gorenstein/
LOCATION:Instagram
CATEGORIES:Curso técnico,Online
ATTACH;FMTTYPE=image/jpeg:https://agendadovinho.com.br/wp-content/uploads/2020/11/riowineandfoodfestival_061120.jpg
END:VEVENT
END:VCALENDAR