BEGIN:VCALENDAR
VERSION:2.0
PRODID:-//Agenda do Vinho - ECPv4.9.0//NONSGML v1.0//EN
CALSCALE:GREGORIAN
METHOD:PUBLISH
X-WR-CALNAME:Agenda do Vinho
X-ORIGINAL-URL:https://agendadovinho.com.br
X-WR-CALDESC:Eventos para Agenda do Vinho
BEGIN:VEVENT
DTSTART;TZID=America/Sao_Paulo:20200921T210000
DTEND;TZID=America/Sao_Paulo:20200921T210000
DTSTAMP:20260425T151248
CREATED:20200921T152114Z
LAST-MODIFIED:20200921T152114Z
UID:15997-1600722000-1600722000@agendadovinho.com.br
SUMMARY:Malbec km 49
DESCRIPTION:21/set – 21:00 \n
URL:https://agendadovinho.com.br/event/malbec-km-49/
LOCATION:Instagram
CATEGORIES:Curso técnico,Online
ATTACH;FMTTYPE=image/jpeg:https://agendadovinho.com.br/wp-content/uploads/2020/09/viiwine_vinho_210920.jpg
END:VEVENT
END:VCALENDAR