BEGIN:VCALENDAR
VERSION:2.0
PRODID:-//Agenda do Vinho - ECPv4.9.0//NONSGML v1.0//EN
CALSCALE:GREGORIAN
METHOD:PUBLISH
X-WR-CALNAME:Agenda do Vinho
X-ORIGINAL-URL:https://agendadovinho.com.br
X-WR-CALDESC:Eventos para Agenda do Vinho
BEGIN:VEVENT
DTSTART;TZID=America/Sao_Paulo:20200417T183000
DTEND;TZID=America/Sao_Paulo:20200417T183000
DTSTAMP:20260425T165032
CREATED:20200416T175600Z
LAST-MODIFIED:20200416T204840Z
UID:12640-1587148200-1587148200@agendadovinho.com.br
SUMMARY:Malbec Day
DESCRIPTION:LIVE Malbec Day dia 17/04 (sexta-feira) as 18:30 no perfil @adegadasonze . Com a participação de Felipe Cesca\, enólogo e sommelier\, representando a @cantuimportadora e @susanabalbowines . Iremos degustar os vinhos Crios Malbec e Tradicion Malbec\, conhecer melhor a vinícola Susana Balbo\, seus vinhos e terroir. Não perca! \n
URL:https://agendadovinho.com.br/event/malbec-day/
LOCATION:Instagram
CATEGORIES:Curso técnico,Online
ATTACH;FMTTYPE=image/jpeg:https://agendadovinho.com.br/wp-content/uploads/2020/04/adegadasonze_170420.jpg
END:VEVENT
END:VCALENDAR