BEGIN:VCALENDAR
VERSION:2.0
PRODID:-//Agenda do Vinho - ECPv4.9.0//NONSGML v1.0//EN
CALSCALE:GREGORIAN
METHOD:PUBLISH
X-WR-CALNAME:Agenda do Vinho
X-ORIGINAL-URL:https://agendadovinho.com.br
X-WR-CALDESC:Eventos para Agenda do Vinho
BEGIN:VEVENT
DTSTART;TZID=UTC-3:20190425T190000
DTEND;TZID=UTC-3:20190425T230000
DTSTAMP:20260419T181256
CREATED:20190423T145110Z
LAST-MODIFIED:20190426T113349Z
UID:2425-1556218800-1556233200@agendadovinho.com.br
SUMMARY:Malbec Day | Museu do Vinho de São Paulo
DESCRIPTION:O Espaço Museu do Vinho de São Paulo é um projeto que pretende ser um “hub” da cultura do vinho. Um lugar de encontro de produtores\, importadores\, distribuidores\, entusiastas\, imprensa e apreciadores em geral deste maravilhoso produto \nEm todo o mundo\, abril é o mês do Malbec. Por vários países haverá celebração e degustação de vinhos argentinos e brasileiros\, os principais produtores de vinhos desta uva. \nO Museu do Vinho de São Paulo quer promover um grande encontro de produtores premiados de Malbec\, trazendo rótulos de expressão que se diferenciam por sua qualidade\, na Argentina e no Brasil. \nSerá uma noite com 4h de duração para explorar o universo Malbec e a cultura Argentina\, em parceria com produtores\, clube de vinhos\, casa de culinária argentina\, dançarinos e perfumista\, com o objetivo de trabalhar todos os sentidos em imersão total. \nNosso objetivo é dar continuidade a nossa missão de promover e desenvolver a cultura do vinho\, agregando valor a sociedade. \nInserir conhecimento\, diversidade\, experiência de forma democrática\, reforçando por meio de parcerias as práticas de excelência na produção\, distribuição e associação ao mundo do vinho. \nCelebrar e ratificar conceitos e datas importantes na história vitivinícola do Brasil e do Mundo. \nO ingresso inclui: \n\nApresentação de Tango\n6 Vinhos para Degustação\nDegustação de Empanada\nDegustação de Chocolate\nDegustação dos Perfumes Malbec\nAula de Vinho com Sommelier\nTaça Vintage (brinde – Kit)\n\nDuração: das 19h às 23h \n
URL:https://agendadovinho.com.br/event/malbec-day-museu-do-vinho-de-sao-paulo/
LOCATION:Espaço Museu do Vinho de São Paulo\, Rua Minas Gerais\, 246\, São Paulo\, SP\, Brasil
CATEGORIES:Degustação limitada,SP - São Paulo
ATTACH;FMTTYPE=image/jpeg:https://agendadovinho.com.br/wp-content/uploads/2019/04/malbec-day_250419_2.jpg
END:VEVENT
END:VCALENDAR