BEGIN:VCALENDAR
VERSION:2.0
PRODID:-//Agenda do Vinho - ECPv4.9.0//NONSGML v1.0//EN
CALSCALE:GREGORIAN
METHOD:PUBLISH
X-WR-CALNAME:Agenda do Vinho
X-ORIGINAL-URL:https://agendadovinho.com.br
X-WR-CALDESC:Eventos para Agenda do Vinho
BEGIN:VEVENT
DTSTART;TZID=America/Sao_Paulo:20200417T170000
DTEND;TZID=America/Sao_Paulo:20200417T170000
DTSTAMP:20260425T152007
CREATED:20200416T174600Z
LAST-MODIFIED:20200416T174600Z
UID:12618-1587142800-1587142800@agendadovinho.com.br
SUMMARY:Maior degustação virtual de vinhos do mundo
DESCRIPTION:Maior degustação virtual de vinhos do mundo @coravin \n
URL:https://agendadovinho.com.br/event/maior-degustacao-virtual-de-vinhos-do-mundo/
LOCATION:Instagram
CATEGORIES:Degustação,Online
ATTACH;FMTTYPE=image/jpeg:https://agendadovinho.com.br/wp-content/uploads/2020/04/coravinbrasil_170420.jpg
END:VEVENT
END:VCALENDAR