BEGIN:VCALENDAR
VERSION:2.0
PRODID:-//Agenda do Vinho - ECPv4.9.0//NONSGML v1.0//EN
CALSCALE:GREGORIAN
METHOD:PUBLISH
X-WR-CALNAME:Agenda do Vinho
X-ORIGINAL-URL:https://agendadovinho.com.br
X-WR-CALDESC:Eventos para Agenda do Vinho
BEGIN:VEVENT
DTSTART;TZID=America/Sao_Paulo:20200321T130000
DTEND;TZID=America/Sao_Paulo:20200321T220000
DTSTAMP:20260425T233726
CREATED:20200305T153444Z
LAST-MODIFIED:20200305T153444Z
UID:11834-1584795600-1584828000@agendadovinho.com.br
SUMMARY:Love Wine Festival
DESCRIPTION:O festival mais amado de Beagá te convida para fechar o verão no dia 21 de Março! Venha aproveitar com os seus amigos em mais uma edição incrível! \nMúsica boa\, gastronomia de primeira e muita história para brindar\, aguardam você e a sua galera no Love Wine! \nUm evento ao ar livre que acontece a partir das 13h em um pedacinho surpreendente do Belvedere. \n
URL:https://agendadovinho.com.br/event/love-wine-festival/
LOCATION:Av. Professor Cristóvam dos Santos\, 444\, Av. Professor Cristóvam dos Santos\, 444 - Belvedere\, Belo Horizonte\, MG\, 30320-510\, Brasil
CATEGORIES:MG - Belo Horizonte,Outros
ATTACH;FMTTYPE=image/png:https://agendadovinho.com.br/wp-content/uploads/2020/03/love-wine-festival_210320.png
END:VEVENT
END:VCALENDAR