BEGIN:VCALENDAR
VERSION:2.0
PRODID:-//Agenda do Vinho - ECPv4.9.0//NONSGML v1.0//EN
CALSCALE:GREGORIAN
METHOD:PUBLISH
X-WR-CALNAME:Agenda do Vinho
X-ORIGINAL-URL:https://agendadovinho.com.br
X-WR-CALDESC:Eventos para Agenda do Vinho
BEGIN:VEVENT
DTSTART;TZID=America/Sao_Paulo:20200417T210000
DTEND;TZID=America/Sao_Paulo:20200417T210000
DTSTAMP:20260426T035728
CREATED:20200416T174418Z
LAST-MODIFIED:20200416T174418Z
UID:12615-1587157200-1587157200@agendadovinho.com.br
SUMMARY:Louis Latour
DESCRIPTION:Join @louislatour1797 this Friday for the start of Live Tasting Series! Kicking us off will be one of our US Sales Managers\, Tim Froggat and @willblackmon (aka @thewinemvp ). They will talk all things wine but also dive into why Burgundy is in the homes of pro athletes these days. They will be sipping on Pommard 2017 and Marsannay 2017 so feel free to sip along (even if it isn’t Burgundy\, we get it). 5:00 PM PST\n8:00 PM EST\n2:00 AM at the winery in Beaune\, France \n
URL:https://agendadovinho.com.br/event/louis-latour/
LOCATION:Instagram
CATEGORIES:Curso técnico,Online
ATTACH;FMTTYPE=image/jpeg:https://agendadovinho.com.br/wp-content/uploads/2020/04/louislatour1797_170420.jpg
END:VEVENT
END:VCALENDAR