BEGIN:VCALENDAR
VERSION:2.0
PRODID:-//Agenda do Vinho - ECPv4.9.0//NONSGML v1.0//EN
CALSCALE:GREGORIAN
METHOD:PUBLISH
X-WR-CALNAME:Agenda do Vinho
X-ORIGINAL-URL:https://agendadovinho.com.br
X-WR-CALDESC:Eventos para Agenda do Vinho
BEGIN:VEVENT
DTSTART;TZID=America/Sao_Paulo:20200514T190000
DTEND;TZID=America/Sao_Paulo:20200514T190000
DTSTAMP:20260426T035812
CREATED:20200514T152858Z
LAST-MODIFIED:20200514T152858Z
UID:13450-1589482800-1589482800@agendadovinho.com.br
SUMMARY:Live dos Mestres
DESCRIPTION:14/05 – 19h \n
URL:https://agendadovinho.com.br/event/live-dos-mestres/
LOCATION:Instagram
CATEGORIES:Curso técnico,Online
ATTACH;FMTTYPE=image/jpeg:https://agendadovinho.com.br/wp-content/uploads/2020/05/abs_sp_140520.jpg
END:VEVENT
END:VCALENDAR