BEGIN:VCALENDAR
VERSION:2.0
PRODID:-//Agenda do Vinho - ECPv4.9.0//NONSGML v1.0//EN
CALSCALE:GREGORIAN
METHOD:PUBLISH
X-WR-CALNAME:Agenda do Vinho
X-ORIGINAL-URL:https://agendadovinho.com.br
X-WR-CALDESC:Eventos para Agenda do Vinho
BEGIN:VEVENT
DTSTART;TZID=America/Sao_Paulo:20200425T120000
DTEND;TZID=America/Sao_Paulo:20200425T120000
DTSTAMP:20260426T040255
CREATED:20200425T151407Z
LAST-MODIFIED:20200425T151407Z
UID:12870-1587816000-1587816000@agendadovinho.com.br
SUMMARY:Live - Direto do vinhedo de Mendoza
DESCRIPTION:Viajei na Live com Viajeinovinho✈🍷Apertem os cintos e venham viajarnovinho 25/04 vamos aterrisar diteto em Lujan de Cuyo Mendoza com nosso amigo e parceiro Leandro produtor dos vinhos kilometro 49✈🍷 @kilometro49 \n
URL:https://agendadovinho.com.br/event/live-direto-do-vinhedo-de-mendoza/
LOCATION:Instagram
CATEGORIES:Curso técnico,Online
ATTACH;FMTTYPE=image/jpeg:https://agendadovinho.com.br/wp-content/uploads/2020/04/viajeinovinho_250420.jpg
END:VEVENT
END:VCALENDAR