BEGIN:VCALENDAR
VERSION:2.0
PRODID:-//Agenda do Vinho - ECPv4.9.0//NONSGML v1.0//EN
CALSCALE:GREGORIAN
METHOD:PUBLISH
X-WR-CALNAME:Agenda do Vinho
X-ORIGINAL-URL:https://agendadovinho.com.br
X-WR-CALDESC:Eventos para Agenda do Vinho
BEGIN:VEVENT
DTSTART;TZID=America/Sao_Paulo:20200805T190000
DTEND;TZID=America/Sao_Paulo:20200805T190000
DTSTAMP:20260425T183903
CREATED:20200805T154508Z
LAST-MODIFIED:20200805T154508Z
UID:15494-1596654000-1596654000@agendadovinho.com.br
SUMMARY:Live com o jornalista de vinhos e colunista Veja Rio
DESCRIPTION:05/ago – 19:00 \n
URL:https://agendadovinho.com.br/event/live-com-o-jornalista-de-vinhos-e-colunista-veja-rio/
LOCATION:Instagram
CATEGORIES:Curso técnico,Online
ATTACH;FMTTYPE=image/jpeg:https://agendadovinho.com.br/wp-content/uploads/2020/08/vejario_050820.jpg
END:VEVENT
END:VCALENDAR