BEGIN:VCALENDAR
VERSION:2.0
PRODID:-//Agenda do Vinho - ECPv4.9.0//NONSGML v1.0//EN
CALSCALE:GREGORIAN
METHOD:PUBLISH
X-WR-CALNAME:Agenda do Vinho
X-ORIGINAL-URL:https://agendadovinho.com.br
X-WR-CALDESC:Eventos para Agenda do Vinho
BEGIN:VEVENT
DTSTART;TZID=America/Sao_Paulo:20200520T190000
DTEND;TZID=America/Sao_Paulo:20200520T190000
DTSTAMP:20260426T005123
CREATED:20200520T160830Z
LAST-MODIFIED:20200520T160830Z
UID:13562-1590001200-1590001200@agendadovinho.com.br
SUMMARY:Live com a ABS Santa Catarina
DESCRIPTION:20/05 – 19h \n
URL:https://agendadovinho.com.br/event/live-com-a-abs-santa-catarina/
LOCATION:Instagram
CATEGORIES:Curso técnico,Online
ATTACH;FMTTYPE=image/jpeg:https://agendadovinho.com.br/wp-content/uploads/2020/05/abs_sp_200520.jpg
END:VEVENT
END:VCALENDAR