BEGIN:VCALENDAR
VERSION:2.0
PRODID:-//Agenda do Vinho - ECPv4.9.0//NONSGML v1.0//EN
CALSCALE:GREGORIAN
METHOD:PUBLISH
X-WR-CALNAME:Agenda do Vinho
X-ORIGINAL-URL:https://agendadovinho.com.br
X-WR-CALDESC:Eventos para Agenda do Vinho
BEGIN:VEVENT
DTSTART;TZID=America/Sao_Paulo:20200425T200000
DTEND;TZID=America/Sao_Paulo:20200425T200000
DTSTAMP:20260426T040003
CREATED:20200424T185800Z
LAST-MODIFIED:20200425T151958Z
UID:12844-1587844800-1587844800@agendadovinho.com.br
SUMMARY:Live Brasil Espumantes
DESCRIPTION:Live Brasil Espumantes – Sábado 25/04 – 20h \n
URL:https://agendadovinho.com.br/event/live-brasil-espumantes/
LOCATION:Instagram
CATEGORIES:Curso técnico,Online
ATTACH;FMTTYPE=image/jpeg:https://agendadovinho.com.br/wp-content/uploads/2020/04/winemaniaoficial_250420_2.jpg
END:VEVENT
END:VCALENDAR