BEGIN:VCALENDAR
VERSION:2.0
PRODID:-//Agenda do Vinho - ECPv4.9.0//NONSGML v1.0//EN
CALSCALE:GREGORIAN
METHOD:PUBLISH
X-WR-CALNAME:Agenda do Vinho
X-ORIGINAL-URL:https://agendadovinho.com.br
X-WR-CALDESC:Eventos para Agenda do Vinho
BEGIN:VEVENT
DTSTART;TZID=America/Sao_Paulo:20200506T190000
DTEND;TZID=America/Sao_Paulo:20200506T190000
DTSTAMP:20260425T165121
CREATED:20200506T145605Z
LAST-MODIFIED:20200506T145605Z
UID:13207-1588791600-1588791600@agendadovinho.com.br
SUMMARY:Live ABS_SP
DESCRIPTION:06/05 – 19h. \n
URL:https://agendadovinho.com.br/event/live-abs_sp-3/
LOCATION:Instagram
CATEGORIES:Curso técnico,Online
ATTACH;FMTTYPE=image/jpeg:https://agendadovinho.com.br/wp-content/uploads/2020/05/abs_sp_060520.jpg
END:VEVENT
END:VCALENDAR