BEGIN:VCALENDAR
VERSION:2.0
PRODID:-//Agenda do Vinho - ECPv4.9.0//NONSGML v1.0//EN
CALSCALE:GREGORIAN
METHOD:PUBLISH
X-WR-CALNAME:Agenda do Vinho
X-ORIGINAL-URL:https://agendadovinho.com.br
X-WR-CALDESC:Eventos para Agenda do Vinho
BEGIN:VEVENT
DTSTART;TZID=America/Sao_Paulo:20200618T200000
DTEND;TZID=America/Sao_Paulo:20200618T200000
DTSTAMP:20260426T004744
CREATED:20200618T154400Z
LAST-MODIFIED:20200618T154400Z
UID:14340-1592510400-1592510400@agendadovinho.com.br
SUMMARY:Lídio Carraro
DESCRIPTION:18/06 – 20h \n
URL:https://agendadovinho.com.br/event/lidio-carraro/
LOCATION:Instagram
CATEGORIES:Curso técnico,Online
ATTACH;FMTTYPE=image/jpeg:https://agendadovinho.com.br/wp-content/uploads/2020/06/abs_campinas_180620.jpg
END:VEVENT
END:VCALENDAR