BEGIN:VCALENDAR
VERSION:2.0
PRODID:-//Agenda do Vinho - ECPv4.9.0//NONSGML v1.0//EN
CALSCALE:GREGORIAN
METHOD:PUBLISH
X-WR-CALNAME:Agenda do Vinho
X-ORIGINAL-URL:https://agendadovinho.com.br
X-WR-CALDESC:Eventos para Agenda do Vinho
BEGIN:VEVENT
DTSTART;TZID=America/Sao_Paulo:20200128T190000
DTEND;TZID=America/Sao_Paulo:20200128T190000
DTSTAMP:20260426T004943
CREATED:20200128T171422Z
LAST-MODIFIED:20200128T171422Z
UID:10859-1580238000-1580238000@agendadovinho.com.br
SUMMARY:La Nuit du Vin
DESCRIPTION:La Nuit du Vin \nJantar harmonizado com 4 vinhos franceses \n
URL:https://agendadovinho.com.br/event/la-nuit-du-vin-3/
LOCATION:L’Épicerie\, R. Fernando Simas\, 340 - Bigorrilho\, Curitiba\, PR\, 80430-190\, Brasil
CATEGORIES:Jantar harmonizado,PR - Curitiba
ATTACH;FMTTYPE=image/jpeg:https://agendadovinho.com.br/wp-content/uploads/2020/01/la-nuit-du-vin_280120.jpg
END:VEVENT
END:VCALENDAR