BEGIN:VCALENDAR
VERSION:2.0
PRODID:-//Agenda do Vinho - ECPv4.9.0//NONSGML v1.0//EN
CALSCALE:GREGORIAN
METHOD:PUBLISH
X-WR-CALNAME:Agenda do Vinho
X-ORIGINAL-URL:https://agendadovinho.com.br
X-WR-CALDESC:Eventos para Agenda do Vinho
BEGIN:VEVENT
DTSTART;TZID=America/Sao_Paulo:20200508T190000
DTEND;TZID=America/Sao_Paulo:20200508T190000
DTSTAMP:20260426T022516
CREATED:20200507T151019Z
LAST-MODIFIED:20200507T151019Z
UID:13270-1588964400-1588964400@agendadovinho.com.br
SUMMARY:Korta Wines
DESCRIPTION:08/05 – 19h \n
URL:https://agendadovinho.com.br/event/korta-wines/
LOCATION:Instagram
CATEGORIES:Curso técnico,Online
ATTACH;FMTTYPE=image/jpeg:https://agendadovinho.com.br/wp-content/uploads/2020/05/vinhoeponto_franchising_080520.jpg
END:VEVENT
END:VCALENDAR