BEGIN:VCALENDAR
VERSION:2.0
PRODID:-//Agenda do Vinho - ECPv4.9.0//NONSGML v1.0//EN
CALSCALE:GREGORIAN
METHOD:PUBLISH
X-WR-CALNAME:Agenda do Vinho
X-ORIGINAL-URL:https://agendadovinho.com.br
X-WR-CALDESC:Eventos para Agenda do Vinho
BEGIN:VEVENT
DTSTART;TZID=America/Sao_Paulo:20200416T200000
DTEND;TZID=America/Sao_Paulo:20200416T200000
DTSTAMP:20260425T155216
CREATED:20200408T150656Z
LAST-MODIFIED:20200408T150656Z
UID:12375-1587067200-1587067200@agendadovinho.com.br
SUMMARY:Kit Porto Romaneira - Degustação online com Diego Arrebola
DESCRIPTION:Um vinho Romaneira é bom\, agora três vinhos Romaneira Porto é BOM DEMAIS!\n⠀\nNa compra do Kit Porto Romaneira\, você ganha DEGUSTAÇÃO ONLINE com @diegoarrebola\, sommelier e Expert da Portus Cale.\n⠀\nPorto Tawny\nPorto Branco\nPorto Ruby\n⠀\nTodos eles por APENAS R$300\,00.\n*Frete grátis na cidade de São Paulo. Para as demais regiões\, consulte 0 site. \nhttps://www.portuscale.com.br/porto-romaneira.html \n
URL:https://agendadovinho.com.br/event/kit-porto-romaneira-degustacao-online-com-diego-arrebola/
LOCATION:Instagram
CATEGORIES:Degustação,Online
ATTACH;FMTTYPE=image/jpeg:https://agendadovinho.com.br/wp-content/uploads/2020/04/portuscalevinhos_160420.jpg
END:VEVENT
END:VCALENDAR