BEGIN:VCALENDAR
VERSION:2.0
PRODID:-//Agenda do Vinho - ECPv4.9.0//NONSGML v1.0//EN
CALSCALE:GREGORIAN
METHOD:PUBLISH
X-WR-CALNAME:Agenda do Vinho
X-ORIGINAL-URL:https://agendadovinho.com.br
X-WR-CALDESC:Eventos para Agenda do Vinho
BEGIN:VEVENT
DTSTART;TZID=America/Sao_Paulo:20191122T193000
DTEND;TZID=America/Sao_Paulo:20191122T223000
DTSTAMP:20260426T011612
CREATED:20191025T162245Z
LAST-MODIFIED:20191025T162245Z
UID:9349-1574451000-1574461800@agendadovinho.com.br
SUMMARY:JohWine Tasting Tour
DESCRIPTION:Degustação e Harmonização de Vinhos Artesanais \nUm bom apreciador de vinhos gosta de provar o que há de melhor. Na JohWine Tasting Tour – Rio Claro\, você terá uma noite agradável regada a boa música e mais de 50 rótulos de 11 países para harmonizar com nosso buffet de queijos e embutidos. \nAlém da incrível experiência gastronômica\, ao comprar seu ingresso você estará contribuindo com o Núcleo de Orientação ao Idoso de Rio Claro. Para ficar ainda melhor\, 15% do valor do seu ingresso será revertido em vinhos de sua escolha. \nEsperamos por você! \nPara adquirir seu ingresso fora da plataforma ligue: 19 99746-2393. Valor: R$ 130\,00. \n
URL:https://agendadovinho.com.br/event/johwine-tasting-tour/
LOCATION:Buffet Trieste 1\, Av. 14\, 1911 - Centro\, Rio Claro\, SP\, 13500-470\, Brasil
CATEGORIES:Degustação,SP - Demais cidades
ATTACH;FMTTYPE=image/jpeg:https://agendadovinho.com.br/wp-content/uploads/2019/10/tasting-tour_221119.jpg
END:VEVENT
END:VCALENDAR