BEGIN:VCALENDAR
VERSION:2.0
PRODID:-//Agenda do Vinho - ECPv4.9.0//NONSGML v1.0//EN
CALSCALE:GREGORIAN
METHOD:PUBLISH
X-WR-CALNAME:Agenda do Vinho
X-ORIGINAL-URL:https://agendadovinho.com.br
X-WR-CALDESC:Eventos para Agenda do Vinho
BEGIN:VEVENT
DTSTART;TZID=America/Sao_Paulo:20240612T193000
DTEND;TZID=America/Sao_Paulo:20240612T233000
DTSTAMP:20260420T075241
CREATED:20240527T155521Z
LAST-MODIFIED:20240527T155521Z
UID:20160-1718220600-1718235000@agendadovinho.com.br
SUMMARY:Jantar harmonizado vinhos do mundo - edição Itália
DESCRIPTION:
URL:https://agendadovinho.com.br/event/jantar-harmonizado-vinhos-do-mundo-edicao-italia/
LOCATION:Escola Chef Gourmet Balneário Camboriú\, Av. Santa Catarina\, 141 - Estados\, Balneário Camboriú\, SC\, 88339-005\, Brasil
CATEGORIES:Jantar harmonizado,SC - Demais cidades
ATTACH;FMTTYPE=image/png:https://agendadovinho.com.br/wp-content/uploads/2024/05/jantar-harmonizado_120624.png
END:VEVENT
END:VCALENDAR