BEGIN:VCALENDAR
VERSION:2.0
PRODID:-//Agenda do Vinho - ECPv4.9.0//NONSGML v1.0//EN
CALSCALE:GREGORIAN
METHOD:PUBLISH
X-WR-CALNAME:Agenda do Vinho
X-ORIGINAL-URL:https://agendadovinho.com.br
X-WR-CALDESC:Eventos para Agenda do Vinho
BEGIN:VEVENT
DTSTART;TZID=America/Sao_Paulo:20190626T190000
DTEND;TZID=America/Sao_Paulo:20190626T220000
DTSTAMP:20260419T163125
CREATED:20190618T081107Z
LAST-MODIFIED:20190618T081107Z
UID:4927-1561575600-1561586400@agendadovinho.com.br
SUMMARY:Jantar Harmonizado Pé de Vinhos
DESCRIPTION:\nMenu degustação em 5 etapas com os vinhos da Vinícola FONTANARI e os Vinhos VENTURA\n\n\n \n\n\nMenu Pé de Vinhos\n\n\n \n\n\nQueijos e embutidos artesanais\n\n\nEspumante FONTANARI Nebbiolo \n\n\n \n\n\nTartar de Salmão \n\n\nVinho FONTANARI Trebbiano Toscano Bâtonnage\n\n\n \n\n\nCroquetes de Cordeiro\n\n\nVinho VENTURA Marselan\n\n\n \n\n\nArroz de pato\n\n\nVinho VENTURA Blend\n\n\n\n\nCupim assado com mousseline de mandioquinha\n\n\nVinho FONTANARI Ancellotta\n\n\nSobremesa – Sorvete artesanal (vários sabores)\n\n\nR$ 20\,00 revertidos para compra de vinhos no local.\n\nOpção sem vinho: R$ 98\,00\n\n \n\nObs: O cardápio pode ser adaptado para Vegetarianos ou com alguma restrição alimentar.\n
URL:https://agendadovinho.com.br/event/jantar-harmonizado-pe-de-vinhos/
LOCATION:La Maison 218\, Rua Pirapora\, 218 - Vila Mariana\, São Paulo\, SP\, Brasil
CATEGORIES:Jantar harmonizado,SP - São Paulo
ATTACH;FMTTYPE=image/jpeg:https://agendadovinho.com.br/wp-content/uploads/2019/06/Post.jpg
END:VEVENT
END:VCALENDAR