BEGIN:VCALENDAR
VERSION:2.0
PRODID:-//Agenda do Vinho - ECPv4.9.0//NONSGML v1.0//EN
CALSCALE:GREGORIAN
METHOD:PUBLISH
X-WR-CALNAME:Agenda do Vinho
X-ORIGINAL-URL:https://agendadovinho.com.br
X-WR-CALDESC:Eventos para Agenda do Vinho
BEGIN:VEVENT
DTSTART;TZID=America/Sao_Paulo:20240308T200000
DTEND;TZID=America/Sao_Paulo:20240308T200000
DTSTAMP:20260420T132242
CREATED:20240227T153614Z
LAST-MODIFIED:20240227T153614Z
UID:19423-1709928000-1709928000@agendadovinho.com.br
SUMMARY:Jantar harmonizado especial Dia da Mulher
DESCRIPTION:
URL:https://agendadovinho.com.br/event/jantar-harmonizado-especial-dia-da-mulher/
LOCATION:POA Bistrô\, R. Olávo Barreto Viana\, 18 - Moinhos de Vento\, Porto Alegre\, RS\, 90570-070\, Brasil
CATEGORIES:Jantar harmonizado,RS - Porto Alegre
ATTACH;FMTTYPE=image/jpeg:https://agendadovinho.com.br/wp-content/uploads/2024/02/jantar-harmonizado_080324.jpg
END:VEVENT
END:VCALENDAR