BEGIN:VCALENDAR
VERSION:2.0
PRODID:-//Agenda do Vinho - ECPv4.9.0//NONSGML v1.0//EN
CALSCALE:GREGORIAN
METHOD:PUBLISH
X-WR-CALNAME:Agenda do Vinho
X-ORIGINAL-URL:https://agendadovinho.com.br
X-WR-CALDESC:Eventos para Agenda do Vinho
BEGIN:VEVENT
DTSTART;TZID=America/Sao_Paulo:20240304T203000
DTEND;TZID=America/Sao_Paulo:20240304T203000
DTSTAMP:20260420T120111
CREATED:20240304T213522Z
LAST-MODIFIED:20240304T213522Z
UID:19487-1709584200-1709584200@agendadovinho.com.br
SUMMARY:Jantar harmonizado e noite nikkei
DESCRIPTION:
URL:https://agendadovinho.com.br/event/jantar-harmonizado-e-noite-nikkei/
LOCATION:Brava Sushi\, Av. Normando Tedesco\, 1350 - Barra Sul\, Balneário Camboriú\, SC\, 88330-123\, Brasil
CATEGORIES:Jantar harmonizado,SC - Demais cidades
ATTACH;FMTTYPE=image/jpeg:https://agendadovinho.com.br/wp-content/uploads/2024/03/jantar-harmonizado-e-noite-nikkei_040324.jpg
END:VEVENT
END:VCALENDAR