BEGIN:VCALENDAR
VERSION:2.0
PRODID:-//Agenda do Vinho - ECPv4.9.0//NONSGML v1.0//EN
CALSCALE:GREGORIAN
METHOD:PUBLISH
X-WR-CALNAME:Agenda do Vinho
X-ORIGINAL-URL:https://agendadovinho.com.br
X-WR-CALDESC:Eventos para Agenda do Vinho
BEGIN:VEVENT
DTSTART;TZID=America/Sao_Paulo:20200318T200000
DTEND;TZID=America/Sao_Paulo:20200318T230000
DTSTAMP:20260425T214900
CREATED:20200228T191529Z
LAST-MODIFIED:20200228T191529Z
UID:11519-1584561600-1584572400@agendadovinho.com.br
SUMMARY:Jantar harmonizado com degustação às cegas WINE SHARE
DESCRIPTION:Um jantar muito especial reunindo amantes do vinho e da boa gastronomia. \nRecepção com Cava Moltó Negre  – ESPANHA \nEntrada \nSiri ao Modo do Chef \nHarmonização Casas del Bosque Reserva Sauvignon Blanc & Harmonização Às Cegas  \nPrimeiro Prato \nCapeletti a la Caruso \nHarmonização Às Cegas \nSegundo Prato  \nFilé Mignon ao vinho do Porto acompanhado de legumes e purê de batata doce. \nHarmonização Brunello Di Montalcino Pieve Santa Restituta \nSobremesa \nCreme Brulee & Macarons \nVinho Do Porto \nObservação: Se você tiver alguma alergia alimentar\, faça-nos saber. Prepararemos um prato especialmente para você \n
URL:https://agendadovinho.com.br/event/jantar-harmonizado-com-degustacao-as-cegas-wine-share/
LOCATION:Amo Vinho\, R. Matias José Bins\, 266 - Três Figueiras\, Porto Alegre\, RS\, 91330-290\, Brasil
CATEGORIES:Jantar harmonizado,RS - Porto Alegre
ATTACH;FMTTYPE=image/jpeg:https://agendadovinho.com.br/wp-content/uploads/2020/02/jantar-harmonizado_180320.jpg
END:VEVENT
END:VCALENDAR