BEGIN:VCALENDAR
VERSION:2.0
PRODID:-//Agenda do Vinho - ECPv4.9.0//NONSGML v1.0//EN
CALSCALE:GREGORIAN
METHOD:PUBLISH
X-WR-CALNAME:Agenda do Vinho
X-ORIGINAL-URL:https://agendadovinho.com.br
X-WR-CALDESC:Eventos para Agenda do Vinho
BEGIN:VEVENT
DTSTART;TZID=America/Sao_Paulo:20191121T200000
DTEND;TZID=America/Sao_Paulo:20191121T220000
DTSTAMP:20260426T042939
CREATED:20191031T213028Z
LAST-MODIFIED:20191031T213028Z
UID:9432-1574366400-1574373600@agendadovinho.com.br
SUMMARY:Jantar Harmonizado Barra Grill & Wine Out & Viña Tinajas
DESCRIPTION:Jantar Harmonizado Barra Grill \nViña Tinajas & Barra Grill \nRealização Wine Out Distribuidora  \nApoio: Hannover Importadora \nDia 21/11/2019 – 20h \nRodízio premium completo do Barra Grill \nÁgua\, café e uma sobremesa da casa à escolha do cliente \nR$ 190 por pessoa \nWelcome drink  \nEspumante Charlotte \nVinhos do jantar: \nViejo Feo Pinot Noir Rosé  \nViejo Feo Pinot Noir  \nTelmo & Ruth  \nRuben & Flora \nViejo Feo Gran Reserva Cabernet Saivignon \n(Ícone da vinícola\, com 15% de álcool e grande complexidade) \nReservas direto com Barra Grill pelo 21-2493-6060\, WhatsApp 21-98013-0945 \nou direto na loja Wine Out  \nReservas disponíveis também pelo link abaixo: \nhttps://pag.ae/7VpcLQ7pr \n
URL:https://agendadovinho.com.br/event/jantar-harmonizado-barra-grill-wine-out-vina-tinajas/
LOCATION:Barra Grill Steakhouse\, Av. Ministro Ivan Lins\, 314\, Barra da Tijuca\, Rio de Janeirro\, RJ\, Brasil
CATEGORIES:Jantar harmonizado,RJ - Rio de Janeiro
ATTACH;FMTTYPE=image/jpeg:https://agendadovinho.com.br/wp-content/uploads/2019/10/AA6F5D2E-F021-4740-9E16-7E114CC8272D.jpeg
END:VEVENT
END:VCALENDAR