BEGIN:VCALENDAR
VERSION:2.0
PRODID:-//Agenda do Vinho - ECPv4.9.0//NONSGML v1.0//EN
CALSCALE:GREGORIAN
METHOD:PUBLISH
X-WR-CALNAME:Agenda do Vinho
X-ORIGINAL-URL:https://agendadovinho.com.br
X-WR-CALDESC:Eventos para Agenda do Vinho
BEGIN:VEVENT
DTSTART;TZID=America/Sao_Paulo:20191122T200000
DTEND;TZID=America/Sao_Paulo:20191122T200000
DTSTAMP:20260426T042342
CREATED:20191119T172524Z
LAST-MODIFIED:20191119T172524Z
UID:9790-1574452800-1574452800@agendadovinho.com.br
SUMMARY:Jantar Harmonizado
DESCRIPTION:Jantar Harmonizado no restaurante Solar de Sintra \nAlém de um menu de iguarias portuguesas de dar água na boca\, você experimentará os vinhos Quinta dos Murças\, que produz vinhos de excelência no centro da DOC Douro\, além dos vinhos de produção ecológica Quinta do Ameal. Imperdível! 🍷🇵🇹 . \nReservas diretamente com o restaurante Solar de Sintra. (48) 99962-1882. \n
URL:https://agendadovinho.com.br/event/jantar-harmonizado-87/
LOCATION:Restaurante Solar de Sintra\, Edifício Campeche - Rod. José Carlos Daux\, 5500 - loja 15 - Saco Grande\, Florianópolis\, SC\, 88032-005\, Brasil
CATEGORIES:Jantar harmonizado,SC - Florianópolis
ATTACH;FMTTYPE=image/jpeg:https://agendadovinho.com.br/wp-content/uploads/2019/11/jantar-harmonizado_221119.jpg
END:VEVENT
END:VCALENDAR