BEGIN:VCALENDAR
VERSION:2.0
PRODID:-//Agenda do Vinho - ECPv4.9.0//NONSGML v1.0//EN
CALSCALE:GREGORIAN
METHOD:PUBLISH
X-WR-CALNAME:Agenda do Vinho
X-ORIGINAL-URL:https://agendadovinho.com.br
X-WR-CALDESC:Eventos para Agenda do Vinho
BEGIN:VEVENT
DTSTART;TZID=America/Sao_Paulo:20191005T190000
DTEND;TZID=America/Sao_Paulo:20191005T190000
DTSTAMP:20260419T152635
CREATED:20191003T143133Z
LAST-MODIFIED:20191003T143133Z
UID:8787-1570302000-1570302000@agendadovinho.com.br
SUMMARY:Jantar Harmonizado
DESCRIPTION:Queridos confrades!\nVem aí um SUPER JANTAR HARMONIZADO! E vocês sabem que para o Blog Enogilia divulgar\, tem que ser coisa muito boa mesmo! O Jantar será no Restaurante Così @restaurantecosibrasilia . O menu é de autoria do prestigiado Chef Renato Carioni @renatocarioni. Para harmonizar\, serão servidos os vinhos da Adega Modoroso. Recomendo! Vai ter Barbera\, Barbaresco e Riesling 😍🍷🔝👌🏻. Vale a pena conferir e participar dessa experiência enogastronômica. Valor 250reais. Reservas pelo telefone 61 3553-9942 \nwww.blogenofilia.com.br \n
URL:https://agendadovinho.com.br/event/jantar-harmonizado-82/
LOCATION:Restaurante Cosi Brasília\, Setor Comercial Norte Q 5 Brasìlia shopping - Asa Norte\, Brasília\, DF\, 70297-400\, Brasil
CATEGORIES:DF - Brasília,Jantar harmonizado
ATTACH;FMTTYPE=image/jpeg:https://agendadovinho.com.br/wp-content/uploads/2019/10/jantar-harmonizado_051019.jpg
END:VEVENT
END:VCALENDAR