BEGIN:VCALENDAR
VERSION:2.0
PRODID:-//Agenda do Vinho - ECPv4.9.0//NONSGML v1.0//EN
CALSCALE:GREGORIAN
METHOD:PUBLISH
X-WR-CALNAME:Agenda do Vinho
X-ORIGINAL-URL:https://agendadovinho.com.br
X-WR-CALDESC:Eventos para Agenda do Vinho
BEGIN:VEVENT
DTSTART;TZID=America/Sao_Paulo:20240426T201500
DTEND;TZID=America/Sao_Paulo:20240426T201500
DTSTAMP:20260420T102814
CREATED:20240417T143236Z
LAST-MODIFIED:20240417T143236Z
UID:19942-1714162500-1714162500@agendadovinho.com.br
SUMMARY:Jantar harmonizado
DESCRIPTION:
URL:https://agendadovinho.com.br/event/jantar-harmonizado-153/
LOCATION:Empório Grand Chef\, Av. Mascote\, 1274 - Vila Mascote\, São Paulo\, SP\, 04363-001\, Brasil
CATEGORIES:Jantar harmonizado,SP - São Paulo
ATTACH;FMTTYPE=image/jpeg:https://agendadovinho.com.br/wp-content/uploads/2024/04/jantar-harmonizado_260424.jpg
END:VEVENT
END:VCALENDAR