BEGIN:VCALENDAR
VERSION:2.0
PRODID:-//Agenda do Vinho - ECPv4.9.0//NONSGML v1.0//EN
CALSCALE:GREGORIAN
METHOD:PUBLISH
X-WR-CALNAME:Agenda do Vinho
X-ORIGINAL-URL:https://agendadovinho.com.br
X-WR-CALDESC:Eventos para Agenda do Vinho
BEGIN:VEVENT
DTSTART;TZID=America/Sao_Paulo:20240222T193000
DTEND;TZID=America/Sao_Paulo:20240222T193000
DTSTAMP:20260420T145801
CREATED:20240221T181749Z
LAST-MODIFIED:20240221T182702Z
UID:19296-1708630200-1708630200@agendadovinho.com.br
SUMMARY:Jantar harmonizado
DESCRIPTION:
URL:https://agendadovinho.com.br/event/jantar-harmonizado-143/
LOCATION:Vino Nobile\, R. Flávio Dallegrave\, 2418 - Hugo Lange\, Curitiba\, PR\, 80040-460\, Brasil
CATEGORIES:Jantar harmonizado,PR - Curitiba
ATTACH;FMTTYPE=image/jpeg:https://agendadovinho.com.br/wp-content/uploads/2024/02/jantar-harmonizado_220224.jpg
END:VEVENT
END:VCALENDAR