BEGIN:VCALENDAR
VERSION:2.0
PRODID:-//Agenda do Vinho - ECPv4.9.0//NONSGML v1.0//EN
CALSCALE:GREGORIAN
METHOD:PUBLISH
X-WR-CALNAME:Agenda do Vinho
X-ORIGINAL-URL:https://agendadovinho.com.br
X-WR-CALDESC:Eventos para Agenda do Vinho
BEGIN:VEVENT
DTSTART;TZID=America/Sao_Paulo:20210120T193000
DTEND;TZID=America/Sao_Paulo:20210120T193000
DTSTAMP:20260423T062836
CREATED:20210114T145559Z
LAST-MODIFIED:20210114T145559Z
UID:17076-1611171000-1611171000@agendadovinho.com.br
SUMMARY:Jantar Harmonizado
DESCRIPTION:20/jan – 19:30 \n
URL:https://agendadovinho.com.br/event/jantar-harmonizado-136/
LOCATION:Amendola Salumeria\, R. Rodolfo Dantas\, 40 - loja b - Copacabana\, Rio de Janeiro\, RJ\, 22020-040\, Brasil
CATEGORIES:Jantar harmonizado,RJ - Rio de Janeiro
ATTACH;FMTTYPE=image/jpeg:https://agendadovinho.com.br/wp-content/uploads/2021/01/amendolasalumeria_200121.jpg
END:VEVENT
END:VCALENDAR