BEGIN:VCALENDAR
VERSION:2.0
PRODID:-//Agenda do Vinho - ECPv4.9.0//NONSGML v1.0//EN
CALSCALE:GREGORIAN
METHOD:PUBLISH
X-WR-CALNAME:Agenda do Vinho
X-ORIGINAL-URL:https://agendadovinho.com.br
X-WR-CALDESC:Eventos para Agenda do Vinho
BEGIN:VEVENT
DTSTART;TZID=America/Sao_Paulo:20201124T200000
DTEND;TZID=America/Sao_Paulo:20201124T200000
DTSTAMP:20260425T030734
CREATED:20201118T175351Z
LAST-MODIFIED:20201118T175351Z
UID:16719-1606248000-1606248000@agendadovinho.com.br
SUMMARY:Jantar Harmonizado
DESCRIPTION:24/nov – 20:00 \n
URL:https://agendadovinho.com.br/event/jantar-harmonizado-132/
LOCATION:Pantucci Trattoria\, R. Barão de Guaraúna\, 553 - Juvevê\, Curitiba\, PR\, 80030-310\, Brasil
CATEGORIES:Jantar harmonizado,PR - Curitiba
ATTACH;FMTTYPE=image/jpeg:https://agendadovinho.com.br/wp-content/uploads/2020/11/pantuccitrattoria_241120.jpg
END:VEVENT
END:VCALENDAR