BEGIN:VCALENDAR
VERSION:2.0
PRODID:-//Agenda do Vinho - ECPv4.9.0//NONSGML v1.0//EN
CALSCALE:GREGORIAN
METHOD:PUBLISH
X-WR-CALNAME:Agenda do Vinho
X-ORIGINAL-URL:https://agendadovinho.com.br
X-WR-CALDESC:Eventos para Agenda do Vinho
BEGIN:VEVENT
DTSTART;TZID=America/Sao_Paulo:20201105T193000
DTEND;TZID=America/Sao_Paulo:20201105T193000
DTSTAMP:20260423T002822
CREATED:20201027T151545Z
LAST-MODIFIED:20201029T160226Z
UID:16382-1604604600-1604604600@agendadovinho.com.br
SUMMARY:Jantar Harmonizado
DESCRIPTION:29/out – 19:30 \n
URL:https://agendadovinho.com.br/event/jantar-harmonizado-124/
LOCATION:Pantucci Vila Izabel\, R. Prof. Ulisses Vieira\, 146 - Vila Izabel\, Curitiba\, PR\, 80320-090\, Brasil
CATEGORIES:Jantar harmonizado,PR - Curitiba
ATTACH;FMTTYPE=image/jpeg:https://agendadovinho.com.br/wp-content/uploads/2020/10/pantuccipanificadora_291020.jpg
END:VEVENT
END:VCALENDAR