BEGIN:VCALENDAR
VERSION:2.0
PRODID:-//Agenda do Vinho - ECPv4.9.0//NONSGML v1.0//EN
CALSCALE:GREGORIAN
METHOD:PUBLISH
X-WR-CALNAME:Agenda do Vinho
X-ORIGINAL-URL:https://agendadovinho.com.br
X-WR-CALDESC:Eventos para Agenda do Vinho
BEGIN:VEVENT
DTSTART;TZID=America/Sao_Paulo:20200317T190000
DTEND;TZID=America/Sao_Paulo:20200317T190000
DTSTAMP:20260425T214310
CREATED:20200313T165501Z
LAST-MODIFIED:20200313T165501Z
UID:12159-1584471600-1584471600@agendadovinho.com.br
SUMMARY:Jantar Harmonizado
DESCRIPTION:Vem aí a edição de março do Jantar Harmonizado do chef @didierlabbe. Dia 17 de março\, a partir das 19h.\n☎Reservas: (21) 3624-7960. \n
URL:https://agendadovinho.com.br/event/jantar-harmonizado-122/
LOCATION:Didier Restaurante\, Av. Alexandre Ferreira\, 66 - Lagoa\, Rio de Janeiro\, RJ\, 22470-220\, Brasil
CATEGORIES:Jantar harmonizado,RJ - Rio de Janeiro
ATTACH;FMTTYPE=image/jpeg:https://agendadovinho.com.br/wp-content/uploads/2020/03/jantar-harmonizado_170320.jpg
END:VEVENT
END:VCALENDAR