BEGIN:VCALENDAR
VERSION:2.0
PRODID:-//Agenda do Vinho - ECPv4.9.0//NONSGML v1.0//EN
CALSCALE:GREGORIAN
METHOD:PUBLISH
X-WR-CALNAME:Agenda do Vinho
X-ORIGINAL-URL:https://agendadovinho.com.br
X-WR-CALDESC:Eventos para Agenda do Vinho
BEGIN:VEVENT
DTSTART;TZID=America/Sao_Paulo:20200326T193000
DTEND;TZID=America/Sao_Paulo:20200326T193000
DTSTAMP:20260425T182651
CREATED:20200312T181419Z
LAST-MODIFIED:20200312T181419Z
UID:12114-1585251000-1585251000@agendadovinho.com.br
SUMMARY:Jantar Harmonizado
DESCRIPTION:Faça sua reserva: 19 982987197 \n
URL:https://agendadovinho.com.br/event/jantar-harmonizado-121/
LOCATION:Gallo Nero Ristorante\, R. Maria Monteiro\, 59 - Cambuí\, Campinas\, SP\, 13025-050\, Brasil
CATEGORIES:Jantar harmonizado,SP - Demais cidades
ATTACH;FMTTYPE=image/jpeg:https://agendadovinho.com.br/wp-content/uploads/2020/03/jantar-harmonizado_260320_2jpg.jpg
END:VEVENT
END:VCALENDAR