BEGIN:VCALENDAR
VERSION:2.0
PRODID:-//Agenda do Vinho - ECPv4.9.0//NONSGML v1.0//EN
CALSCALE:GREGORIAN
METHOD:PUBLISH
X-WR-CALNAME:Agenda do Vinho
X-ORIGINAL-URL:https://agendadovinho.com.br
X-WR-CALDESC:Eventos para Agenda do Vinho
BEGIN:VEVENT
DTSTART;TZID=America/Sao_Paulo:20200313T200000
DTEND;TZID=America/Sao_Paulo:20200313T220000
DTSTAMP:20260425T214320
CREATED:20200304T191543Z
LAST-MODIFIED:20200304T191543Z
UID:11770-1584129600-1584136800@agendadovinho.com.br
SUMMARY:JANTAR HARMONIZADO
DESCRIPTION:No dia 13/03\, teremos um jantar harmonizado muito especial da Divinoteca no Villa Borges.\n\nUma explosão de sabores\, acompanhados de uma harmonização divina e vinhos surpreendentes!\n\nAproveite que estamos no mês da mulher e faça um convite para uma mulher especial em sua vida.\n\nAtenção\, as vagas são limitadas\, reserve logo a sua!\n\nEntrada: Cuscuz Marroquino de Frutas Tropicais com Shot de Ajo Blanco.\n\nPrato principal: Minuta de Salmão\, Purê de Baroa e Grapefruit\n\nSobremesa: Mousseline de doce de leite com coulis de limão siciliano.\n\nLocal: Restaurante Villa Borges\nRua Amazonas\, 548\, Centro\, São Caetano do Sul\, SP.\n\nContatos:\n11 2629-3029 / 11 99388-7159\ncontato@divinoteca.com.br\n\nWine Lounge\n
URL:https://agendadovinho.com.br/event/jantar-harmonizado-117/
LOCATION:Restaurante Villa Borges\, Rua Amazonas\, 548\, Centro\, São Caetano do Sul\, SP\, Brasil
CATEGORIES:Jantar harmonizado,SP - Demais cidades
ATTACH;FMTTYPE=image/jpeg:https://agendadovinho.com.br/wp-content/uploads/2019/04/imagem3.jpg
END:VEVENT
END:VCALENDAR