BEGIN:VCALENDAR
VERSION:2.0
PRODID:-//Agenda do Vinho - ECPv4.9.0//NONSGML v1.0//EN
CALSCALE:GREGORIAN
METHOD:PUBLISH
X-WR-CALNAME:Agenda do Vinho
X-ORIGINAL-URL:https://agendadovinho.com.br
X-WR-CALDESC:Eventos para Agenda do Vinho
BEGIN:VEVENT
DTSTART;TZID=America/Sao_Paulo:20200307T190000
DTEND;TZID=America/Sao_Paulo:20200307T190000
DTSTAMP:20260425T231258
CREATED:20200229T192756Z
LAST-MODIFIED:20200229T192756Z
UID:11598-1583607600-1583607600@agendadovinho.com.br
SUMMARY:Jantar Harmonizado
DESCRIPTION:1° JANTAR HARMONIZADO 2020 🍷 . \nUma sinfonia enogastronômica! 🥂💛 \nÉ assim que definimos essa experiência incrível! \nEstá chegando o dia do no nosso primeiro Jantar Harmonizado! \nEspecial PEIXES 🍷🐟 \nNão fique de fora! \nOs ingressos serão vendidos apenas antecipadamente!\nE são limitados! 😱 \nEntre em contato para maiores informações – (54)98129-5509 \n
URL:https://agendadovinho.com.br/event/jantar-harmonizado-112/
LOCATION:Vinícola Monte Sant’Ana\, Linha Santana\, São Marcos\, RS\, 95190-000\, Brasil
CATEGORIES:Jantar harmonizado,RS - Demais cidades
ATTACH;FMTTYPE=image/jpeg:https://agendadovinho.com.br/wp-content/uploads/2020/02/jantar-harmonizado_070320_2.jpg
END:VEVENT
END:VCALENDAR