BEGIN:VCALENDAR
VERSION:2.0
PRODID:-//Agenda do Vinho - ECPv4.9.0//NONSGML v1.0//EN
CALSCALE:GREGORIAN
METHOD:PUBLISH
X-WR-CALNAME:Agenda do Vinho
X-ORIGINAL-URL:https://agendadovinho.com.br
X-WR-CALDESC:Eventos para Agenda do Vinho
BEGIN:VEVENT
DTSTART;TZID=America/Sao_Paulo:20200228T200000
DTEND;TZID=America/Sao_Paulo:20200228T200000
DTSTAMP:20260425T214309
CREATED:20200228T183134Z
LAST-MODIFIED:20200228T183134Z
UID:11475-1582920000-1582920000@agendadovinho.com.br
SUMMARY:Jantar Harmonizado
DESCRIPTION:Jantar harmonizado em parceria com a @mondo_roso que trará os produtores italianos dos vinhos que serão servidos no evento. \n🍷Enzo Boglietti e Mirella – Enzo Boglietti.\n🍷Patrizia Niero – Corte Moshina.\n🍷Fabio Giannetti – La Fornace.\n🍷Laura Dell’Aira – Fattoria do Fugnano.\n🍷Tenuta Cavalier Pepe. \nPara tornar a noite ainda mais especial\, nosso chef @jeffersongazaniga elaborou um menu exclusivo para o jantar que acontecerá no dia 28\, sexta feira ás 20h. \nInvestimento: R$220 por pessoa. Reservas por WhatsApp (48) 98453-3291 ou ☎️ 3355-6247. \n
URL:https://agendadovinho.com.br/event/jantar-harmonizado-108/
LOCATION:Bistrô Pedra da Vigia\, R. Caminho do Rei\, 100 - Praia do Rosa\, Imbituba\, SC\, 88780-000\, Brasil
CATEGORIES:Jantar harmonizado,SC - Demais cidades
ATTACH;FMTTYPE=image/jpeg:https://agendadovinho.com.br/wp-content/uploads/2020/02/jantar-harmonizado_280220_2.jpg
END:VEVENT
END:VCALENDAR