BEGIN:VCALENDAR
VERSION:2.0
PRODID:-//Agenda do Vinho - ECPv4.9.0//NONSGML v1.0//EN
CALSCALE:GREGORIAN
METHOD:PUBLISH
X-WR-CALNAME:Agenda do Vinho
X-ORIGINAL-URL:https://agendadovinho.com.br
X-WR-CALDESC:Eventos para Agenda do Vinho
BEGIN:VEVENT
DTSTART;TZID=America/Sao_Paulo:20200213T190000
DTEND;TZID=America/Sao_Paulo:20200213T190000
DTSTAMP:20260426T004906
CREATED:20200206T181050Z
LAST-MODIFIED:20200206T181050Z
UID:11180-1581620400-1581620400@agendadovinho.com.br
SUMMARY:Jantar Harmonizado
DESCRIPTION:Jantar Harmonizado e bate papo com sommeliers da 3amigos \n
URL:https://agendadovinho.com.br/event/jantar-harmonizado-104/
LOCATION:Av. Pres. Juscelino Kubitschek\, 7848 – São José dos Campos\, Av. Pres. Juscelino Kubitschek\, 7848 - Vila Industrial\, São José dos Campos\, SP\, 12220-000\, Brasil
CATEGORIES:Jantar harmonizado,SP - Demais cidades
ATTACH;FMTTYPE=image/jpeg:https://agendadovinho.com.br/wp-content/uploads/2020/02/jantar-harmonizado_130220_3.jpg
END:VEVENT
END:VCALENDAR