BEGIN:VCALENDAR
VERSION:2.0
PRODID:-//Agenda do Vinho - ECPv4.9.0//NONSGML v1.0//EN
CALSCALE:GREGORIAN
METHOD:PUBLISH
X-WR-CALNAME:Agenda do Vinho
X-ORIGINAL-URL:https://agendadovinho.com.br
X-WR-CALDESC:Eventos para Agenda do Vinho
BEGIN:VEVENT
DTSTART;TZID=America/Sao_Paulo:20200319T193000
DTEND;TZID=America/Sao_Paulo:20200319T193000
DTSTAMP:20260425T232546
CREATED:20200310T165222Z
LAST-MODIFIED:20200310T165222Z
UID:12018-1584646200-1584646200@agendadovinho.com.br
SUMMARY:JANTAR ESPECIAL NA PANTUCCI TRATTORIA
DESCRIPTION:JANTAR ESPECIAL NA PANTUCCI TRATTORIA! ESPECIAL VINHOS FRANCESES.⠀⠀\n⠀⠀\nO evento acontece dia 19 de março\, às 19h30 com a presença do sommelier Diego Arrebola\, eleito 3 vezes o melhor do Brasil.⠀⠀⠀\n⠀⠀⠀\nConfira o menu e faça sua reserva pelo email contato@entrecopos.com.br.⠀\n⠀\nVINHOS⠀\nDe Mour Bordeaux Blanc Les Charmes de Noé⠀\nChâteau Arnaud Petit Bordeaux⠀\nVoilà Merlot⠀\nChâteau Tayet Bordeaux Supérieur⠀\nChapelle de Potensac Médoc⠀\nChâteau Peyarabon Haut-Médoc⠀\n⠀\nENTRADA⠀\nPolenta cremosa com molho de funghi porcini⠀\n⠀\nPRATO PRINCIPAL⠀\nPernil de cordeiro assado lentamente com⠀\nVinho e ervas servido com batata rústica e brócolis ⠀\n⠀\nSOBREMESA⠀\nCreme brûlée tradicional com um toque de amarena⠀ \n
URL:https://agendadovinho.com.br/event/jantar-especial-na-pantucci-trattoria/
LOCATION:Pantucci Trattoria\, R. Barão de Guaraúna\, 553 - Juvevê\, Curitiba\, PR\, 80030-310\, Brasil
CATEGORIES:Jantar harmonizado,PR - Curitiba
ATTACH;FMTTYPE=image/jpeg:https://agendadovinho.com.br/wp-content/uploads/2020/03/jantar-especial_190320.jpg
END:VEVENT
END:VCALENDAR