BEGIN:VCALENDAR
VERSION:2.0
PRODID:-//Agenda do Vinho - ECPv4.9.0//NONSGML v1.0//EN
CALSCALE:GREGORIAN
METHOD:PUBLISH
X-WR-CALNAME:Agenda do Vinho
X-ORIGINAL-URL:https://agendadovinho.com.br
X-WR-CALDESC:Eventos para Agenda do Vinho
BEGIN:VEVENT
DTSTART;TZID=America/Sao_Paulo:20200318T200000
DTEND;TZID=America/Sao_Paulo:20200318T200000
DTSTAMP:20260425T183259
CREATED:20200306T213934Z
LAST-MODIFIED:20200306T213934Z
UID:11882-1584561600-1584561600@agendadovinho.com.br
SUMMARY:Jantar degustação Quinta dos Murças
DESCRIPTION:O restaurante North Bar e Grill junto com o @emporiofreicanecaoficial e @qualimpor convidam para uma noite inesquecível regada a uma seleção incrível de vinhos importados e um delicioso jantar harmonizado. Aproveite esta oportunidade. Entre em contato e faça a sua reserva\, pois são vagas limitadas (11) 3472-2038 • (11) 3472-2109 \n
URL:https://agendadovinho.com.br/event/jantar-degustacao-quinta-dos-murcas/
LOCATION:North Bar e Grill\, R. Frei Caneca\, 569 - 3° andar - Consolação\, São Paulo\, SP\, 01307-001\, Brasil
CATEGORIES:Jantar harmonizado,SP - São Paulo
ATTACH;FMTTYPE=image/jpeg:https://agendadovinho.com.br/wp-content/uploads/2020/03/jantar-degustacao_180320.jpg
END:VEVENT
END:VCALENDAR