BEGIN:VCALENDAR
VERSION:2.0
PRODID:-//Agenda do Vinho - ECPv4.9.0//NONSGML v1.0//EN
CALSCALE:GREGORIAN
METHOD:PUBLISH
X-WR-CALNAME:Agenda do Vinho
X-ORIGINAL-URL:https://agendadovinho.com.br
X-WR-CALDESC:Eventos para Agenda do Vinho
BEGIN:VEVENT
DTSTART;TZID=America/Sao_Paulo:20200312T200000
DTEND;TZID=America/Sao_Paulo:20200312T200000
DTSTAMP:20260425T183137
CREATED:20200309T152102Z
LAST-MODIFIED:20200309T152102Z
UID:11962-1584043200-1584043200@agendadovinho.com.br
SUMMARY:Jantar às Escuras
DESCRIPTION:Uma sequência de 4 pratos + sobremesa do @chefantonello \, harmonizados com uma seleção especial de vinhos do @enologro e você com os olhos vendados\, isso mesmo completamente às cegas! \nJantar às Escuras\nQuinta 12 de Março às 20h\n(tolerância de 15 minutos)\nLocal: Chef Antonello Caffè & Bistrot\nRua Diogo Prado\, 28\nCambuí | Campinas/SP\nValor: R$ 180\,00\nInformações e Reservas\n(19) 97110-0050 \nCaso tenha alguma restrição alimentar\, que nos comunique através do WhatsApp (19) 97110-0050 \n
URL:https://agendadovinho.com.br/event/jantar-as-escuras/
LOCATION:Chef Antonello Caffè & Bistrot\, R. Dr. Diogo Prado\, 28 - Cambuí\, Campinas\, SP\, 13024-210\, Brasil
CATEGORIES:Jantar harmonizado,SP - Demais cidades
ATTACH;FMTTYPE=image/jpeg:https://agendadovinho.com.br/wp-content/uploads/2020/03/jantar-as-escuras_120320.jpg
END:VEVENT
END:VCALENDAR