BEGIN:VCALENDAR
VERSION:2.0
PRODID:-//Agenda do Vinho - ECPv4.9.0//NONSGML v1.0//EN
CALSCALE:GREGORIAN
METHOD:PUBLISH
X-WR-CALNAME:Agenda do Vinho
X-ORIGINAL-URL:https://agendadovinho.com.br
X-WR-CALDESC:Eventos para Agenda do Vinho
BEGIN:VEVENT
DTSTART;TZID=America/Sao_Paulo:20200219T193000
DTEND;TZID=America/Sao_Paulo:20200219T193000
DTSTAMP:20260426T004803
CREATED:20200213T155938Z
LAST-MODIFIED:20200213T155938Z
UID:11374-1582140600-1582140600@agendadovinho.com.br
SUMMARY:Introdução ao Vinho
DESCRIPTION:Curso de Introdução ao Vinho\, para você que quer entrar no universo de Baco pela porta da frente. Inscrições com Milena Nicácio pelo fone (84) 99838-0241. \n
URL:https://agendadovinho.com.br/event/introducao-ao-vinho/
LOCATION:N Wines\, Av. Governador Tarcísio de Vasconcelos Maia\, 2179 - Candelária\, Natal\, RN\, 59066-035\, Brasil
CATEGORIES:Curso técnico,RN - Natal
ATTACH;FMTTYPE=image/jpeg:https://agendadovinho.com.br/wp-content/uploads/2020/02/introducao-ao-vinho_190220.jpg
END:VEVENT
END:VCALENDAR