BEGIN:VCALENDAR
VERSION:2.0
PRODID:-//Agenda do Vinho - ECPv4.9.0//NONSGML v1.0//EN
CALSCALE:GREGORIAN
METHOD:PUBLISH
X-WR-CALNAME:Agenda do Vinho
X-ORIGINAL-URL:https://agendadovinho.com.br
X-WR-CALDESC:Eventos para Agenda do Vinho
BEGIN:VEVENT
DTSTART;TZID=America/Sao_Paulo:20200625T193000
DTEND;TZID=America/Sao_Paulo:20200625T193000
DTSTAMP:20260425T133146
CREATED:20200611T163316Z
LAST-MODIFIED:20200611T163316Z
UID:14156-1593113400-1593113400@agendadovinho.com.br
SUMMARY:Introdução ao mundo dos vinhos
DESCRIPTION:25/06 – 19:30 \n
URL:https://agendadovinho.com.br/event/introducao-ao-mundo-dos-vinhos-6/
LOCATION:Vídeo conferência
CATEGORIES:Curso técnico,Online
ATTACH;FMTTYPE=image/jpeg:https://agendadovinho.com.br/wp-content/uploads/2020/06/somm.nataliagaion250620.jpg
END:VEVENT
END:VCALENDAR